BEGIN:VCALENDAR
VERSION:2.0
PRODID:icalendar-ruby
CALSCALE:GREGORIAN
METHOD:PUBLISH
BEGIN:VEVENT
DTSTAMP:20260422T114505Z
UID:8-360240@appletoncityfellowship.com
DTSTART:20260426T134500Z
DTEND:20260426T160000Z
CLASS:PUBLIC
CREATED:20260420T104027
DESCRIPTION:Join us for a powerful morning of worship\, testimony\, and lif
 e change as we gather to celebrate baptisms at the lake. We’ll begin at 
 9:45 AM at Appleton City Lake\, lifting our voices in worship together bef
 ore stepping into the waters to witness and celebrate those going “all i
 n” in their faith—publicly declaring their decision to follow Jesus an
 d live on mission.\nAfter baptisms\, we’ll head over to The Barn for a f
 ellowship lunch—a time to connect\, celebrate\, and share in the joy of 
 what God is doing in our church family.\nBring a chair\, invite someone to
  come with you\, and come ready to celebrate life transformation.
LAST-MODIFIED:20260420T104027
LOCATION:Appleton City Lake and the Barn
SUMMARY:All In
URL;VALUE=URI:https://www.appletoncityfellowship.com/events/all-in/2026-04-
 26
ATTACH;FILENAME=Baptism-Media.png;FMTTYPE=image/png:https://dq5pwpg1q8ru0.c
 loudfront.net/2026/04/20/15/40/27/2fef2460-8af4-4f28-b86a-d09755c76951/Bap
 tism-Media.png
END:VEVENT
END:VCALENDAR
